BEGIN:VCALENDAR
VERSION:2.0
PRODID:-//Esprit WaFu - ECPv6.15.20//NONSGML v1.0//EN
CALSCALE:GREGORIAN
METHOD:PUBLISH
X-WR-CALNAME:Esprit WaFu
X-ORIGINAL-URL:https://espritwafu.com
X-WR-CALDESC:Évènements pour Esprit WaFu
REFRESH-INTERVAL;VALUE=DURATION:PT1H
X-Robots-Tag:noindex
X-PUBLISHED-TTL:PT1H
BEGIN:VTIMEZONE
TZID:Europe/Paris
BEGIN:DAYLIGHT
TZOFFSETFROM:+0100
TZOFFSETTO:+0200
TZNAME:CEST
DTSTART:20250330T010000
END:DAYLIGHT
BEGIN:STANDARD
TZOFFSETFROM:+0200
TZOFFSETTO:+0100
TZNAME:CET
DTSTART:20251026T010000
END:STANDARD
BEGIN:DAYLIGHT
TZOFFSETFROM:+0100
TZOFFSETTO:+0200
TZNAME:CEST
DTSTART:20260329T010000
END:DAYLIGHT
BEGIN:STANDARD
TZOFFSETFROM:+0200
TZOFFSETTO:+0100
TZNAME:CET
DTSTART:20261025T010000
END:STANDARD
BEGIN:DAYLIGHT
TZOFFSETFROM:+0100
TZOFFSETTO:+0200
TZNAME:CEST
DTSTART:20270328T010000
END:DAYLIGHT
BEGIN:STANDARD
TZOFFSETFROM:+0200
TZOFFSETTO:+0100
TZNAME:CET
DTSTART:20271031T010000
END:STANDARD
END:VTIMEZONE
BEGIN:VEVENT
DTSTART;TZID=Europe/Paris:20260704T110000
DTEND;TZID=Europe/Paris:20260704T140000
DTSTAMP:20260424T103555
CREATED:20260415T130525Z
LAST-MODIFIED:20260415T130525Z
UID:3167-1783162800-1783173600@espritwafu.com
SUMMARY:Expérience Asiatique : Gyoza & Xiaolongbao (Toulouse)
DESCRIPTION:Déroulement de l’atelier (3h)\n\nRéalisation de gyoza (raviolis japonais grillés au porc)\, et xiaolongbao (raviolis chinois à la vapeur farcis de bouillon)\nPrésentation autour du Japon (voyage\, culture\, histoire\, cuisine).\n\nLe thème varie selon les séances : découverte des régions du Japon\, paysages\, culture et histoire\, vivre au Japon\, ou encore voyages saisonniers (été\, printemps\, automne).\n\n\nDégustation et presentation du saké\n\nL’atelier se termine par un moment de dégustation convivial\, pour savourer les créations réalisées ensemble \n  \n*Les boissons sont incluses (apéritif\, thé\, eau et jus pour les enfants). \n*Vous préparerez l’équivalent de 1 à 2 portions\, et des contenants seront fournis pour que vous puissiez emporter vos créations chez vous. \n*Merci de réserver votre place en achetant votre billet à l’avance.
URL:https://espritwafu.com/event/experience-asiatique-gyoza-xiaolongbao-toulouse
LOCATION:OVYO SNACK HEALTHY\, 55 Rue des Couteliers\, 31000 Toulouse\, Toulouse\, 都道府県を選択してください：\, 31000\, France
CATEGORIES:Gyoza
ORGANIZER;CN="Esprit Wafu":MAILTO:admin@espritwafu.com
END:VEVENT
BEGIN:VEVENT
DTSTART;TZID=Europe/Paris:20260709T190000
DTEND;TZID=Europe/Paris:20260709T220000
DTSTAMP:20260424T103555
CREATED:20260415T130703Z
LAST-MODIFIED:20260415T130711Z
UID:3169-1783623600-1783634400@espritwafu.com
SUMMARY:Expérience Asiatique : Gyoza & Xiaolongbao (Toulouse)
DESCRIPTION:Déroulement de l’atelier (3h)\n\nRéalisation de gyoza (raviolis japonais grillés au porc)\, et xiaolongbao (raviolis chinois à la vapeur farcis de bouillon)\nPrésentation autour du Japon (voyage\, culture\, histoire\, cuisine).\n\nLe thème varie selon les séances : découverte des régions du Japon\, paysages\, culture et histoire\, vivre au Japon\, ou encore voyages saisonniers (été\, printemps\, automne).\n\n\nDégustation et presentation du saké\n\nL’atelier se termine par un moment de dégustation convivial\, pour savourer les créations réalisées ensemble \n  \n*Les boissons sont incluses (apéritif\, thé\, eau et jus pour les enfants). \n*Vous préparerez l’équivalent de 1 à 2 portions\, et des contenants seront fournis pour que vous puissiez emporter vos créations chez vous. \n*Merci de réserver votre place en achetant votre billet à l’avance.
URL:https://espritwafu.com/event/experience-asiatique-gyoza-xiaolongbao-toulouse-2
LOCATION:OVYO SNACK HEALTHY\, 55 Rue des Couteliers\, 31000 Toulouse\, Toulouse\, 都道府県を選択してください：\, 31000\, France
CATEGORIES:Gyoza
ORGANIZER;CN="Esprit Wafu":MAILTO:admin@espritwafu.com
END:VEVENT
BEGIN:VEVENT
DTSTART;TZID=Europe/Paris:20260725T110000
DTEND;TZID=Europe/Paris:20260725T140000
DTSTAMP:20260424T103555
CREATED:20260415T131031Z
LAST-MODIFIED:20260415T131031Z
UID:3173-1784977200-1784988000@espritwafu.com
SUMMARY:Expérience Asiatique : Gyoza & Xiaolongbao (Toulouse)
DESCRIPTION:Déroulement de l’atelier (3h)\n\nRéalisation de gyoza (raviolis japonais grillés au porc)\, et xiaolongbao (raviolis chinois à la vapeur farcis de bouillon)\nPrésentation autour du Japon (voyage\, culture\, histoire\, cuisine).\n\nLe thème varie selon les séances : découverte des régions du Japon\, paysages\, culture et histoire\, vivre au Japon\, ou encore voyages saisonniers (été\, printemps\, automne).\n\n\nDégustation et presentation du saké\n\nL’atelier se termine par un moment de dégustation convivial\, pour savourer les créations réalisées ensemble \n  \n*Les boissons sont incluses (apéritif\, thé\, eau et jus pour les enfants). \n*Vous préparerez l’équivalent de 1 à 2 portions\, et des contenants seront fournis pour que vous puissiez emporter vos créations chez vous. \n*Merci de réserver votre place en achetant votre billet à l’avance.
URL:https://espritwafu.com/event/experience-asiatique-gyoza-xiaolongbao-toulouse-4
LOCATION:OVYO SNACK HEALTHY\, 55 Rue des Couteliers\, 31000 Toulouse\, Toulouse\, 都道府県を選択してください：\, 31000\, France
CATEGORIES:Gyoza
ORGANIZER;CN="Esprit Wafu":MAILTO:admin@espritwafu.com
END:VEVENT
END:VCALENDAR