BEGIN:VCALENDAR
VERSION:2.0
PRODID:-//Esprit WaFu - ECPv6.15.20//NONSGML v1.0//EN
CALSCALE:GREGORIAN
METHOD:PUBLISH
X-ORIGINAL-URL:https://espritwafu.com
X-WR-CALDESC:Évènements pour Esprit WaFu
REFRESH-INTERVAL;VALUE=DURATION:PT1H
X-Robots-Tag:noindex
X-PUBLISHED-TTL:PT1H
BEGIN:VTIMEZONE
TZID:Europe/Paris
BEGIN:DAYLIGHT
TZOFFSETFROM:+0100
TZOFFSETTO:+0200
TZNAME:CEST
DTSTART:20250330T010000
END:DAYLIGHT
BEGIN:STANDARD
TZOFFSETFROM:+0200
TZOFFSETTO:+0100
TZNAME:CET
DTSTART:20251026T010000
END:STANDARD
BEGIN:DAYLIGHT
TZOFFSETFROM:+0100
TZOFFSETTO:+0200
TZNAME:CEST
DTSTART:20260329T010000
END:DAYLIGHT
BEGIN:STANDARD
TZOFFSETFROM:+0200
TZOFFSETTO:+0100
TZNAME:CET
DTSTART:20261025T010000
END:STANDARD
BEGIN:DAYLIGHT
TZOFFSETFROM:+0100
TZOFFSETTO:+0200
TZNAME:CEST
DTSTART:20270328T010000
END:DAYLIGHT
BEGIN:STANDARD
TZOFFSETFROM:+0200
TZOFFSETTO:+0100
TZNAME:CET
DTSTART:20271031T010000
END:STANDARD
END:VTIMEZONE
BEGIN:VEVENT
DTSTART;TZID=Europe/Paris:20260605T190000
DTEND;TZID=Europe/Paris:20260605T220000
DTSTAMP:20260424T104526
CREATED:20260423T083818Z
LAST-MODIFIED:20260423T083818Z
UID:3255-1780686000-1780696800@espritwafu.com
SUMMARY:Expérience Asiatique : Gyoza & Xiaolongbao (Labège)
DESCRIPTION:Réalisation de gyoza (raviolis japonais grillés au porc)\, et xiaolongbao (raviolis chinois à la vapeur farcis de bouillon)\nPrésentation autour du Japon (voyage\, culture\, histoire\, cuisine).\n\nLe thème varie selon les séances : découverte des régions du Japon\, paysages\, culture et histoire\, vivre au Japon\, ou encore voyages saisonniers (été\, printemps\, automne).\n\n\nDégustation et presentation du saké\n\n  \n*Les boissons sont incluses (apéritif\, thé\, eau et jus pour les enfants). \n*Merci de réserver votre place en achetant votre billet à l’avance. \n 
URL:https://espritwafu.com/event/experience-asiatique-gyoza-xiaolongbao-labege
LOCATION:Hôtel Ariane Toulouse\, 30 Rue des Cosmonautes\,\, Toulouse\, 31400\, France
CATEGORIES:Gyoza
ORGANIZER;CN="Esprit Wafu":MAILTO:admin@espritwafu.com
END:VEVENT
BEGIN:VEVENT
DTSTART;TZID=Europe/Paris:20260611T190000
DTEND;TZID=Europe/Paris:20260611T213000
DTSTAMP:20260424T104526
CREATED:20260405T195627Z
LAST-MODIFIED:20260415T132405Z
UID:3048-1781204400-1781213400@espritwafu.com
SUMMARY:Expérience Asiatique : Gyoza & Xiaolongbao (Toulouse)
DESCRIPTION:Agenda: \n\nRéalisation de gyoza (raviolis japonais grillés au porc)\, et xiaolongbao (raviolis chinois à la vapeur farcis de bouillon)\nPrésentation des voyages au Japon pendant les vacances d’été\nDégustation du saké\n\n*Les boissons sont incluses (apéritif\, thé\, eau et jus pour les enfants). \n*Merci de réserver votre place en achetant votre billet à l’avance.
URL:https://espritwafu.com/event/atelier-gyoza-toulouse-4
LOCATION:OVYO SNACK HEALTHY\, 55 Rue des Couteliers\, 31000 Toulouse\, Toulouse\, 都道府県を選択してください：\, 31000\, France
CATEGORIES:Gyoza
ORGANIZER;CN="Esprit Wafu":MAILTO:admin@espritwafu.com
END:VEVENT
BEGIN:VEVENT
DTSTART;TZID=Europe/Paris:20260620T120000
DTEND;TZID=Europe/Paris:20260620T150000
DTSTAMP:20260424T104526
CREATED:20260423T084027Z
LAST-MODIFIED:20260423T084027Z
UID:3257-1781956800-1781967600@espritwafu.com
SUMMARY:Expérience Asiatique : Gyoza & Xiaolongbao (Labège)
DESCRIPTION:Réalisation de gyoza (raviolis japonais grillés au porc)\, et xiaolongbao (raviolis chinois à la vapeur farcis de bouillon)\nPrésentation autour du Japon (voyage\, culture\, histoire\, cuisine).\n\nLe thème varie selon les séances : découverte des régions du Japon\, paysages\, culture et histoire\, vivre au Japon\, ou encore voyages saisonniers (été\, printemps\, automne).\n\n\nDégustation et presentation du saké\n\n  \n*Les boissons sont incluses (apéritif\, thé\, eau et jus pour les enfants). \n*Merci de réserver votre place en achetant votre billet à l’avance. \n 
URL:https://espritwafu.com/event/experience-asiatique-gyoza-xiaolongbao-labege-2
LOCATION:Hôtel Ariane Toulouse\, 30 Rue des Cosmonautes\,\, Toulouse\, 31400\, France
CATEGORIES:Gyoza
ORGANIZER;CN="Esprit Wafu":MAILTO:admin@espritwafu.com
END:VEVENT
END:VCALENDAR